BEGIN:VCALENDAR
VERSION:2.0
PRODID:-//Goldgrube//myauktion.com//AT
CALSCALE:GREGORIAN
BEGIN:VEVENT
DTSTART:20260508T122600
DTEND:20260508T122630
LOCATION:Gewerbepark 13, 8562 Mooskirchen
DTSTAMP:20260424T222211
SUMMARY:MyAuktion: Ablauf Artikel Nr. 525550 Hankook Winter i*cept evo3 275/45 R20 110V M+S
URL;VALUE=URI:https://www.myauktion.com/versteigerung7666-position2444458-hankook-winter-icept-evo3-275-45-r20-110v-m-s.php
DESCRIPTION:2 Stück
UID:myauktion-7666-2444458
BEGIN:VALARM
ACTION:DISPLAY
DESCRIPTION:2 Stück
TRIGGER:-PT10M
END:VALARM
END:VEVENT
END:VCALENDAR