BEGIN:VCALENDAR
VERSION:2.0
PRODID:-//Goldgrube//myauktion.com//AT
CALSCALE:GREGORIAN
BEGIN:VEVENT
DTSTART:20260508T122800
DTEND:20260508T122830
LOCATION:Gewerbepark 13, 8562 Mooskirchen
DTSTAMP:20260424T160239
SUMMARY:MyAuktion: Ablauf Artikel Nr. 525552 Petlas Explero Winter W671 225/60 R18 104V
URL;VALUE=URI:https://www.myauktion.com/versteigerung7666-position2444460-petlas-explero-winter-w671-225-60-r18-104v.php
DESCRIPTION:M+S, verstärkt. DOT: 285 34528 5124.
UID:myauktion-7666-2444460
BEGIN:VALARM
ACTION:DISPLAY
DESCRIPTION:M+S, verstärkt. DOT: 285 34528 5124.
TRIGGER:-PT10M
END:VALARM
END:VEVENT
END:VCALENDAR