BEGIN:VCALENDAR
VERSION:2.0
PRODID:-//Goldgrube//myauktion.com//AT
CALSCALE:GREGORIAN
BEGIN:VEVENT
DTSTART:20260508T122900
DTEND:20260508T122930
LOCATION:Gewerbepark 13, 8562 Mooskirchen
DTSTAMP:20260424T222216
SUMMARY:MyAuktion: Ablauf Artikel Nr. 525553 Hankook Vantra LT 225/75R16C
URL;VALUE=URI:https://www.myauktion.com/versteigerung7666-position2444461-hankook-vantra-lt-225-75r16c.php
DESCRIPTION:
UID:myauktion-7666-2444461
BEGIN:VALARM
ACTION:DISPLAY
DESCRIPTION:
TRIGGER:-PT10M
END:VALARM
END:VEVENT
END:VCALENDAR