BEGIN:VCALENDAR
VERSION:2.0
PRODID:-//Goldgrube//myauktion.com//AT
CALSCALE:GREGORIAN
BEGIN:VEVENT
DTSTART:20260508T123000
DTEND:20260508T123030
LOCATION:Gewerbepark 13, 8562 Mooskirchen
DTSTAMP:20260424T160255
SUMMARY:MyAuktion: Ablauf Artikel Nr. 525554 Vredestein Quatrac 255/55 R18 109W XL
URL;VALUE=URI:https://www.myauktion.com/versteigerung7666-position2444462-vredestein-quatrac-255-55-r18-109w-xl.php
DESCRIPTION:
UID:myauktion-7666-2444462
BEGIN:VALARM
ACTION:DISPLAY
DESCRIPTION:
TRIGGER:-PT10M
END:VALARM
END:VEVENT
END:VCALENDAR