BEGIN:VCALENDAR
VERSION:2.0
PRODID:-//Goldgrube//myauktion.com//AT
CALSCALE:GREGORIAN
BEGIN:VEVENT
DTSTART:20260508T123100
DTEND:20260508T123130
LOCATION:Gewerbepark 13, 8562 Mooskirchen
DTSTAMP:20260424T222215
SUMMARY:MyAuktion: Ablauf Artikel Nr. 525555 Hankook Kinergy 215/55 R16
URL;VALUE=URI:https://www.myauktion.com/versteigerung7666-position2444463-hankook-kinergy-215-55-r16.php
DESCRIPTION:
UID:myauktion-7666-2444463
BEGIN:VALARM
ACTION:DISPLAY
DESCRIPTION:
TRIGGER:-PT10M
END:VALARM
END:VEVENT
END:VCALENDAR