BEGIN:VCALENDAR
VERSION:2.0
PRODID:-//Goldgrube//myauktion.com//AT
CALSCALE:GREGORIAN
BEGIN:VEVENT
DTSTART:20260508T123200
DTEND:20260508T123230
LOCATION:Gewerbepark 13, 8562 Mooskirchen
DTSTAMP:20260424T160244
SUMMARY:MyAuktion: Ablauf Artikel Nr. 525556 Pirelli P-Zero (PZ4) 295/35ZR23 (108Y) XL
URL;VALUE=URI:https://www.myauktion.com/versteigerung7666-position2444464-pirelli-p-zero-pz4-295-35zr23-108y-xl.php
DESCRIPTION:
UID:myauktion-7666-2444464
BEGIN:VALARM
ACTION:DISPLAY
DESCRIPTION:
TRIGGER:-PT10M
END:VALARM
END:VEVENT
END:VCALENDAR