BEGIN:VCALENDAR
VERSION:2.0
PRODID:-//Goldgrube//myauktion.com//AT
CALSCALE:GREGORIAN
BEGIN:VEVENT
DTSTART:20260508T123300
DTEND:20260508T123330
LOCATION:Gewerbepark 13, 8562 Mooskirchen
DTSTAMP:20260424T160247
SUMMARY:MyAuktion: Ablauf Artikel Nr. 525557 Hankook Ventus S1 evo3 245/45 R19
URL;VALUE=URI:https://www.myauktion.com/versteigerung7666-position2444465-hankook-ventus-s1-evo3-245-45-r19.php
DESCRIPTION:
UID:myauktion-7666-2444465
BEGIN:VALARM
ACTION:DISPLAY
DESCRIPTION:
TRIGGER:-PT10M
END:VALARM
END:VEVENT
END:VCALENDAR