BEGIN:VCALENDAR
VERSION:2.0
PRODID:-//Goldgrube//myauktion.com//AT
CALSCALE:GREGORIAN
BEGIN:VEVENT
DTSTART:20260508T123400
DTEND:20260508T123430
LOCATION:Gewerbepark 13, 8562 Mooskirchen
DTSTAMP:20260424T160238
SUMMARY:MyAuktion: Ablauf Artikel Nr. 525558 Sailun Terramax A/T 265/60R18 110T
URL;VALUE=URI:https://www.myauktion.com/versteigerung7666-position2444466-sailun-terramax-a-t-265-60r18-110t.php
DESCRIPTION:
UID:myauktion-7666-2444466
BEGIN:VALARM
ACTION:DISPLAY
DESCRIPTION:
TRIGGER:-PT10M
END:VALARM
END:VEVENT
END:VCALENDAR