BEGIN:VCALENDAR
VERSION:2.0
PRODID:-//Goldgrube//myauktion.com//AT
CALSCALE:GREGORIAN
BEGIN:VEVENT
DTSTART:20260508T123500
DTEND:20260508T123530
LOCATION:Gewerbepark 13, 8562 Mooskirchen
DTSTAMP:20260424T160256
SUMMARY:MyAuktion: Ablauf Artikel Nr. 525559 Nexen N'Blue 4Season 205/55 R16 94H XL
URL;VALUE=URI:https://www.myauktion.com/versteigerung7666-position2444467-nexen-nblue-4season-205-55-r16-94h-xl.php
DESCRIPTION:
UID:myauktion-7666-2444467
BEGIN:VALARM
ACTION:DISPLAY
DESCRIPTION:
TRIGGER:-PT10M
END:VALARM
END:VEVENT
END:VCALENDAR