BEGIN:VCALENDAR
VERSION:2.0
PRODID:-//Goldgrube//myauktion.com//AT
CALSCALE:GREGORIAN
BEGIN:VEVENT
DTSTART:20260508T123600
DTEND:20260508T123630
LOCATION:Gewerbepark 13, 8562 Mooskirchen
DTSTAMP:20260424T160241
SUMMARY:MyAuktion: Ablauf Artikel Nr. 525560 Hankook Winter i*cept evo3 225/40R19 93V XL
URL;VALUE=URI:https://www.myauktion.com/versteigerung7666-position2444468-hankook-winter-icept-evo3-225-40r19-93v-xl.php
DESCRIPTION:
UID:myauktion-7666-2444468
BEGIN:VALARM
ACTION:DISPLAY
DESCRIPTION:
TRIGGER:-PT10M
END:VALARM
END:VEVENT
END:VCALENDAR