BEGIN:VCALENDAR
VERSION:2.0
PRODID:-//Goldgrube//myauktion.com//AT
CALSCALE:GREGORIAN
BEGIN:VEVENT
DTSTART:20260508T111600
DTEND:20260508T111630
LOCATION:Gewerbepark 13, 8562 Mooskirchen
DTSTAMP:20260424T180144
SUMMARY:MyAuktion: Ablauf Artikel Nr. 523533 Nexen WINGUARD Sport 2 205/55 R16
URL;VALUE=URI:https://www.myauktion.com/versteigerung7666-position2444469-nexen-winguard-sport-2-205-55-r16.php
DESCRIPTION:None weitere Details erkennbar
UID:myauktion-7666-2444469
BEGIN:VALARM
ACTION:DISPLAY
DESCRIPTION:None weitere Details erkennbar
TRIGGER:-PT10M
END:VALARM
END:VEVENT
END:VCALENDAR