BEGIN:VCALENDAR
VERSION:2.0
PRODID:-//Goldgrube//myauktion.com//AT
CALSCALE:GREGORIAN
BEGIN:VEVENT
DTSTART:20260507T102400
DTEND:20260507T102430
LOCATION:Gewerbepark 13, 8562 Mooskirchen
DTSTAMP:20260423T205510
SUMMARY:MyAuktion: Ablauf Artikel Nr. 443512 Verpackung Luftpolsterfolie 500mm 50m lang 
URL;VALUE=URI:https://www.myauktion.com/versteigerung7663-position2444472-verpackung-luftpolsterfolie-500mm-50m-lang.php
DESCRIPTION:
UID:myauktion-7663-2444472
BEGIN:VALARM
ACTION:DISPLAY
DESCRIPTION:
TRIGGER:-PT10M
END:VALARM
END:VEVENT
END:VCALENDAR