BEGIN:VCALENDAR
VERSION:2.0
PRODID:-//Goldgrube//myauktion.com//AT
CALSCALE:GREGORIAN
BEGIN:VEVENT
DTSTART:20260507T112800
DTEND:20260507T112830
LOCATION:Gewerbepark 13, 8562 Mooskirchen
DTSTAMP:20260424T045033
SUMMARY:MyAuktion: Ablauf Artikel Nr. 443709 Söhngen Kinder Erste Hilfe Tasche Scout Art.No. 250005747
URL;VALUE=URI:https://www.myauktion.com/versteigerung7663-position2444473-soehngen-kinder-erste-hilfe-tasche-scout-artno-250005747.php
DESCRIPTION:Inhalt Abgelaufen 
UID:myauktion-7663-2444473
BEGIN:VALARM
ACTION:DISPLAY
DESCRIPTION:Inhalt Abgelaufen 
TRIGGER:-PT10M
END:VALARM
END:VEVENT
END:VCALENDAR