BEGIN:VCALENDAR
VERSION:2.0
PRODID:-//Goldgrube//myauktion.com//AT
CALSCALE:GREGORIAN
BEGIN:VEVENT
DTSTART:20260507T102500
DTEND:20260507T102530
LOCATION:Gewerbepark 13, 8562 Mooskirchen
DTSTAMP:20260423T192633
SUMMARY:MyAuktion: Ablauf Artikel Nr. 443513 MW Mean Well LBV-35-12 Class Power Supply 
URL;VALUE=URI:https://www.myauktion.com/versteigerung7663-position2444474-mw-mean-well-lbv-35-12-class-power-supply.php
DESCRIPTION:
UID:myauktion-7663-2444474
BEGIN:VALARM
ACTION:DISPLAY
DESCRIPTION:
TRIGGER:-PT10M
END:VALARM
END:VEVENT
END:VCALENDAR