BEGIN:VCALENDAR
VERSION:2.0
PRODID:-//Goldgrube//myauktion.com//AT
CALSCALE:GREGORIAN
BEGIN:VEVENT
DTSTART:20260507T120800
DTEND:20260507T120830
LOCATION:Gewerbepark 13, 8562 Mooskirchen
DTSTAMP:20260423T205522
SUMMARY:MyAuktion: Ablauf Artikel Nr. 444131 Tidbiz MC Temp 400
URL;VALUE=URI:https://www.myauktion.com/versteigerung7663-position2444482-tidbiz-mc-temp-400.php
DESCRIPTION:
UID:myauktion-7663-2444482
BEGIN:VALARM
ACTION:DISPLAY
DESCRIPTION:
TRIGGER:-PT10M
END:VALARM
END:VEVENT
END:VCALENDAR