BEGIN:VCALENDAR
VERSION:2.0
PRODID:-//Goldgrube//myauktion.com//AT
CALSCALE:GREGORIAN
BEGIN:VEVENT
DTSTART:20260507T102600
DTEND:20260507T102630
LOCATION:Gewerbepark 13, 8562 Mooskirchen
DTSTAMP:20260423T192634
SUMMARY:MyAuktion: Ablauf Artikel Nr. 443514 Emma Matrazenschoner 180x200cm weiß 
URL;VALUE=URI:https://www.myauktion.com/versteigerung7663-position2444483-emma-matrazenschoner-180x200cm-weiss.php
DESCRIPTION:
UID:myauktion-7663-2444483
BEGIN:VALARM
ACTION:DISPLAY
DESCRIPTION:
TRIGGER:-PT10M
END:VALARM
END:VEVENT
END:VCALENDAR