BEGIN:VCALENDAR
VERSION:2.0
PRODID:-//Goldgrube//myauktion.com//AT
CALSCALE:GREGORIAN
BEGIN:VEVENT
DTSTART:20260507T113000
DTEND:20260507T113030
LOCATION:Gewerbepark 13, 8562 Mooskirchen
DTSTAMP:20260423T205517
SUMMARY:MyAuktion: Ablauf Artikel Nr. 443711 Erodierfilter Model No. 40.41.671 Art.No 0424-0199 ca 30cm hoch, durchmesser ca 34,5cm
URL;VALUE=URI:https://www.myauktion.com/versteigerung7663-position2444484-erodierfilter-model-no-4041671-artno-0424-0199-ca-30cm-hoch-durchmesser-ca-345cm.php
DESCRIPTION:
UID:myauktion-7663-2444484
BEGIN:VALARM
ACTION:DISPLAY
DESCRIPTION:
TRIGGER:-PT10M
END:VALARM
END:VEVENT
END:VCALENDAR