BEGIN:VCALENDAR
VERSION:2.0
PRODID:-//Goldgrube//myauktion.com//AT
CALSCALE:GREGORIAN
BEGIN:VEVENT
DTSTART:20260507T102700
DTEND:20260507T102730
LOCATION:Gewerbepark 13, 8562 Mooskirchen
DTSTAMP:20260423T205515
SUMMARY:MyAuktion: Ablauf Artikel Nr. 443515 Kuvert mit Fenster A4 250 Stück 
URL;VALUE=URI:https://www.myauktion.com/versteigerung7663-position2444488-kuvert-mit-fenster-a4-250-stueck.php
DESCRIPTION:
UID:myauktion-7663-2444488
BEGIN:VALARM
ACTION:DISPLAY
DESCRIPTION:
TRIGGER:-PT10M
END:VALARM
END:VEVENT
END:VCALENDAR