BEGIN:VCALENDAR
VERSION:2.0
PRODID:-//Goldgrube//myauktion.com//AT
CALSCALE:GREGORIAN
BEGIN:VEVENT
DTSTART:20260507T091200
DTEND:20260507T091230
LOCATION:Gewerbepark 13, 8562 Mooskirchen
DTSTAMP:20260423T151127
SUMMARY:MyAuktion: Ablauf Artikel Nr. 443171 Kärcher BVL 3/1Bp Anniversary Edition 
URL;VALUE=URI:https://www.myauktion.com/versteigerung7663-position2444489-kaercher-bvl-3-1bp-anniversary-edition.php
DESCRIPTION:
UID:myauktion-7663-2444489
BEGIN:VALARM
ACTION:DISPLAY
DESCRIPTION:
TRIGGER:-PT10M
END:VALARM
END:VEVENT
END:VCALENDAR