BEGIN:VCALENDAR
VERSION:2.0
PRODID:-//Goldgrube//myauktion.com//AT
CALSCALE:GREGORIAN
BEGIN:VEVENT
DTSTART:20260507T113200
DTEND:20260507T113230
LOCATION:Gewerbepark 13, 8562 Mooskirchen
DTSTAMP:20260423T205508
SUMMARY:MyAuktion: Ablauf Artikel Nr. 443712 Standmülleimer in Rot ca 87×20×14,5cm
URL;VALUE=URI:https://www.myauktion.com/versteigerung7663-position2444491-standmuelleimer-in-rot-ca-8720145cm.php
DESCRIPTION:Beschädigt 
UID:myauktion-7663-2444491
BEGIN:VALARM
ACTION:DISPLAY
DESCRIPTION:Beschädigt 
TRIGGER:-PT10M
END:VALARM
END:VEVENT
END:VCALENDAR