BEGIN:VCALENDAR
VERSION:2.0
PRODID:-//Goldgrube//myauktion.com//AT
CALSCALE:GREGORIAN
BEGIN:VEVENT
DTSTART:20260507T091300
DTEND:20260507T091330
LOCATION:Gewerbepark 13, 8562 Mooskirchen
DTSTAMP:20260423T151109
SUMMARY:MyAuktion: Ablauf Artikel Nr. 443172 Kern Präzisionswaage (DMS) TPCB 3600-2-A 
URL;VALUE=URI:https://www.myauktion.com/versteigerung7663-position2444493-kern-praezisionswaage-dms-tpcb-3600-2-a.php
DESCRIPTION:
UID:myauktion-7663-2444493
BEGIN:VALARM
ACTION:DISPLAY
DESCRIPTION:
TRIGGER:-PT10M
END:VALARM
END:VEVENT
END:VCALENDAR