BEGIN:VCALENDAR
VERSION:2.0
PRODID:-//Goldgrube//myauktion.com//AT
CALSCALE:GREGORIAN
BEGIN:VEVENT
DTSTART:20260507T121300
DTEND:20260507T121330
LOCATION:Gewerbepark 13, 8562 Mooskirchen
DTSTAMP:20260423T205512
SUMMARY:MyAuktion: Ablauf Artikel Nr. 444136 Milton&Oldbrook Coffee Table Set Versailles MIFU000211
URL;VALUE=URI:https://www.myauktion.com/versteigerung7663-position2444495-milton-38oldbrook-coffee-table-set-versailles-mifu000211.php
DESCRIPTION:Unvollständig 2/2
UID:myauktion-7663-2444495
BEGIN:VALARM
ACTION:DISPLAY
DESCRIPTION:Unvollständig 2/2
TRIGGER:-PT10M
END:VALARM
END:VEVENT
END:VCALENDAR