BEGIN:VCALENDAR
VERSION:2.0
PRODID:-//Goldgrube//myauktion.com//AT
CALSCALE:GREGORIAN
BEGIN:VEVENT
DTSTART:20260507T102800
DTEND:20260507T102830
LOCATION:Gewerbepark 13, 8562 Mooskirchen
DTSTAMP:20260423T192638
SUMMARY:MyAuktion: Ablauf Artikel Nr. 443516 Norev Peugeot 205XR 1985 Red 471732
URL;VALUE=URI:https://www.myauktion.com/versteigerung7663-position2444496-norev-peugeot-205xr-1985-red-471732.php
DESCRIPTION:
UID:myauktion-7663-2444496
BEGIN:VALARM
ACTION:DISPLAY
DESCRIPTION:
TRIGGER:-PT10M
END:VALARM
END:VEVENT
END:VCALENDAR