BEGIN:VCALENDAR
VERSION:2.0
PRODID:-//Goldgrube//myauktion.com//AT
CALSCALE:GREGORIAN
BEGIN:VEVENT
DTSTART:20260507T102900
DTEND:20260507T102930
LOCATION:Gewerbepark 13, 8562 Mooskirchen
DTSTAMP:20260423T192639
SUMMARY:MyAuktion: Ablauf Artikel Nr. 443517 PCX 87 Premium ClassiXXs Opel Kadett E Caravan beige PCX87.1:87
URL;VALUE=URI:https://www.myauktion.com/versteigerung7663-position2444498-pcx-87-premium-classixxs-opel-kadett-e-caravan-beige-pcx87187.php
DESCRIPTION:
UID:myauktion-7663-2444498
BEGIN:VALARM
ACTION:DISPLAY
DESCRIPTION:
TRIGGER:-PT10M
END:VALARM
END:VEVENT
END:VCALENDAR