BEGIN:VCALENDAR
VERSION:2.0
PRODID:-//Goldgrube//myauktion.com//AT
CALSCALE:GREGORIAN
BEGIN:VEVENT
DTSTART:20260507T113300
DTEND:20260507T113330
LOCATION:Gewerbepark 13, 8562 Mooskirchen
DTSTAMP:20260424T045034
SUMMARY:MyAuktion: Ablauf Artikel Nr. 443713 Szsinocam Smart Batterie Kamera mit KI-Gestützter Ereigniserkennung Art.No. HTB0437463MVVY
URL;VALUE=URI:https://www.myauktion.com/versteigerung7663-position2444499-szsinocam-smart-batterie-kamera-mit-ki-gestuetzter-ereigniserkennung-artno-htb0437463mvvy.php
DESCRIPTION:Ca 16×16cm
UID:myauktion-7663-2444499
BEGIN:VALARM
ACTION:DISPLAY
DESCRIPTION:Ca 16×16cm
TRIGGER:-PT10M
END:VALARM
END:VEVENT
END:VCALENDAR