BEGIN:VCALENDAR
VERSION:2.0
PRODID:-//Goldgrube//myauktion.com//AT
CALSCALE:GREGORIAN
BEGIN:VEVENT
DTSTART:20260507T103000
DTEND:20260507T103030
LOCATION:Gewerbepark 13, 8562 Mooskirchen
DTSTAMP:20260423T185215
SUMMARY:MyAuktion: Ablauf Artikel Nr. 443518 Awa Automodelle Peugeot blau 
URL;VALUE=URI:https://www.myauktion.com/versteigerung7663-position2444503-awa-automodelle-peugeot-blau.php
DESCRIPTION:Keinen weiteren Infos ersichtlich 
UID:myauktion-7663-2444503
BEGIN:VALARM
ACTION:DISPLAY
DESCRIPTION:Keinen weiteren Infos ersichtlich 
TRIGGER:-PT10M
END:VALARM
END:VEVENT
END:VCALENDAR