BEGIN:VCALENDAR
VERSION:2.0
PRODID:-//Goldgrube//myauktion.com//AT
CALSCALE:GREGORIAN
BEGIN:VEVENT
DTSTART:20260507T091700
DTEND:20260507T091730
LOCATION:Gewerbepark 13, 8562 Mooskirchen
DTSTAMP:20260423T151125
SUMMARY:MyAuktion: Ablauf Artikel Nr. 443176 Sandalen 
URL;VALUE=URI:https://www.myauktion.com/versteigerung7663-position2444504-sandalen.php
DESCRIPTION:Gr. 39 
UID:myauktion-7663-2444504
BEGIN:VALARM
ACTION:DISPLAY
DESCRIPTION:Gr. 39 
TRIGGER:-PT10M
END:VALARM
END:VEVENT
END:VCALENDAR