BEGIN:VCALENDAR
VERSION:2.0
PRODID:-//Goldgrube//myauktion.com//AT
CALSCALE:GREGORIAN
BEGIN:VEVENT
DTSTART:20260507T121700
DTEND:20260507T121730
LOCATION:Gewerbepark 13, 8562 Mooskirchen
DTSTAMP:20260423T192635
SUMMARY:MyAuktion: Ablauf Artikel Nr. 444139 Lastar For One Night  Eau de Parfum 55ml
URL;VALUE=URI:https://www.myauktion.com/versteigerung7663-position2444505-lastar-for-one-night-eau-de-parfum-55ml.php
DESCRIPTION:
UID:myauktion-7663-2444505
BEGIN:VALARM
ACTION:DISPLAY
DESCRIPTION:
TRIGGER:-PT10M
END:VALARM
END:VEVENT
END:VCALENDAR