BEGIN:VCALENDAR
VERSION:2.0
PRODID:-//Goldgrube//myauktion.com//AT
CALSCALE:GREGORIAN
BEGIN:VEVENT
DTSTART:20260507T103100
DTEND:20260507T103130
LOCATION:Gewerbepark 13, 8562 Mooskirchen
DTSTAMP:20260423T192636
SUMMARY:MyAuktion: Ablauf Artikel Nr. 443519 AWM Automodelle VW Transporter 
URL;VALUE=URI:https://www.myauktion.com/versteigerung7663-position2444506-awm-automodelle-vw-transporter.php
DESCRIPTION:Keinen weiteren Infos ersichtlich 
UID:myauktion-7663-2444506
BEGIN:VALARM
ACTION:DISPLAY
DESCRIPTION:Keinen weiteren Infos ersichtlich 
TRIGGER:-PT10M
END:VALARM
END:VEVENT
END:VCALENDAR