BEGIN:VCALENDAR
VERSION:2.0
PRODID:-//Goldgrube//myauktion.com//AT
CALSCALE:GREGORIAN
BEGIN:VEVENT
DTSTART:20260507T113400
DTEND:20260507T113430
LOCATION:Gewerbepark 13, 8562 Mooskirchen
DTSTAMP:20260424T045034
SUMMARY:MyAuktion: Ablauf Artikel Nr. 443714 Benuta Pop Mascinengewebter Innen- & Außen-Teppich Art.No. 42177060.120170.3
URL;VALUE=URI:https://www.myauktion.com/versteigerung7663-position2444507-benuta-pop-mascinengewebter-innen-38-aussen-teppich-artno-421770601201703.php
DESCRIPTION:Creme Farbe, 120×170cm
UID:myauktion-7663-2444507
BEGIN:VALARM
ACTION:DISPLAY
DESCRIPTION:Creme Farbe, 120×170cm
TRIGGER:-PT10M
END:VALARM
END:VEVENT
END:VCALENDAR