BEGIN:VCALENDAR
VERSION:2.0
PRODID:-//Goldgrube//myauktion.com//AT
CALSCALE:GREGORIAN
BEGIN:VEVENT
DTSTART:20260507T121800
DTEND:20260507T121830
LOCATION:Gewerbepark 13, 8562 Mooskirchen
DTSTAMP:20260423T205512
SUMMARY:MyAuktion: Ablauf Artikel Nr. 444140 Lastar Black Suit Eau de Parfüm 30ml
URL;VALUE=URI:https://www.myauktion.com/versteigerung7663-position2444508-lastar-black-suit-eau-de-parfuem-30ml.php
DESCRIPTION:
UID:myauktion-7663-2444508
BEGIN:VALARM
ACTION:DISPLAY
DESCRIPTION:
TRIGGER:-PT10M
END:VALARM
END:VEVENT
END:VCALENDAR