BEGIN:VCALENDAR
VERSION:2.0
PRODID:-//Goldgrube//myauktion.com//AT
CALSCALE:GREGORIAN
BEGIN:VEVENT
DTSTART:20260507T103200
DTEND:20260507T103230
LOCATION:Gewerbepark 13, 8562 Mooskirchen
DTSTAMP:20260423T192636
SUMMARY:MyAuktion: Ablauf Artikel Nr. 443520 AWM Automodelle VW Polo 
URL;VALUE=URI:https://www.myauktion.com/versteigerung7663-position2444509-awm-automodelle-vw-polo.php
DESCRIPTION:Keinen weiteren Infos 
UID:myauktion-7663-2444509
BEGIN:VALARM
ACTION:DISPLAY
DESCRIPTION:Keinen weiteren Infos 
TRIGGER:-PT10M
END:VALARM
END:VEVENT
END:VCALENDAR