BEGIN:VCALENDAR
VERSION:2.0
PRODID:-//Goldgrube//myauktion.com//AT
CALSCALE:GREGORIAN
BEGIN:VEVENT
DTSTART:20260507T091800
DTEND:20260507T091830
LOCATION:Gewerbepark 13, 8562 Mooskirchen
DTSTAMP:20260423T151131
SUMMARY:MyAuktion: Ablauf Artikel Nr. 443177 Homla Laterne ca. 40x14cm 
URL;VALUE=URI:https://www.myauktion.com/versteigerung7663-position2444510-homla-laterne-ca-40x14cm.php
DESCRIPTION:
UID:myauktion-7663-2444510
BEGIN:VALARM
ACTION:DISPLAY
DESCRIPTION:
TRIGGER:-PT10M
END:VALARM
END:VEVENT
END:VCALENDAR