BEGIN:VCALENDAR
VERSION:2.0
PRODID:-//Goldgrube//myauktion.com//AT
CALSCALE:GREGORIAN
BEGIN:VEVENT
DTSTART:20260507T121900
DTEND:20260507T121930
LOCATION:Gewerbepark 13, 8562 Mooskirchen
DTSTAMP:20260423T205510
SUMMARY:MyAuktion: Ablauf Artikel Nr. 444141 Lastar City Pulsr Eau de Parfüm 55ml
URL;VALUE=URI:https://www.myauktion.com/versteigerung7663-position2444511-lastar-city-pulsr-eau-de-parfuem-55ml.php
DESCRIPTION:
UID:myauktion-7663-2444511
BEGIN:VALARM
ACTION:DISPLAY
DESCRIPTION:
TRIGGER:-PT10M
END:VALARM
END:VEVENT
END:VCALENDAR