BEGIN:VCALENDAR
VERSION:2.0
PRODID:-//Goldgrube//myauktion.com//AT
CALSCALE:GREGORIAN
BEGIN:VEVENT
DTSTART:20260507T113500
DTEND:20260507T113530
LOCATION:Gewerbepark 13, 8562 Mooskirchen
DTSTAMP:20260423T205515
SUMMARY:MyAuktion: Ablauf Artikel Nr. 443715 Hilti Bit-Set Ph2-Tx40, Art.No. 2057803
URL;VALUE=URI:https://www.myauktion.com/versteigerung7663-position2444513-hilti-bit-set-ph2-tx40-artno-2057803.php
DESCRIPTION:
UID:myauktion-7663-2444513
BEGIN:VALARM
ACTION:DISPLAY
DESCRIPTION:
TRIGGER:-PT10M
END:VALARM
END:VEVENT
END:VCALENDAR