BEGIN:VCALENDAR
VERSION:2.0
PRODID:-//Goldgrube//myauktion.com//AT
CALSCALE:GREGORIAN
BEGIN:VEVENT
DTSTART:20260507T091900
DTEND:20260507T091930
LOCATION:Gewerbepark 13, 8562 Mooskirchen
DTSTAMP:20260423T151125
SUMMARY:MyAuktion: Ablauf Artikel Nr. 443178 Sawarovski Optik Kalender 2026 ca. 60x45cm 
URL;VALUE=URI:https://www.myauktion.com/versteigerung7663-position2444514-sawarovski-optik-kalender-2026-ca-60x45cm.php
DESCRIPTION:
UID:myauktion-7663-2444514
BEGIN:VALARM
ACTION:DISPLAY
DESCRIPTION:
TRIGGER:-PT10M
END:VALARM
END:VEVENT
END:VCALENDAR