BEGIN:VCALENDAR
VERSION:2.0
PRODID:-//Goldgrube//myauktion.com//AT
CALSCALE:GREGORIAN
BEGIN:VEVENT
DTSTART:20260507T103300
DTEND:20260507T103330
LOCATION:Gewerbepark 13, 8562 Mooskirchen
DTSTAMP:20260425T044440
SUMMARY:MyAuktion: Ablauf Artikel Nr. 443521 AWA Exclusive Automodelle im Maßstab 1:87/HO  LKW Eduard Haas 54287
URL;VALUE=URI:https://www.myauktion.com/versteigerung7663-position2444515-awa-exclusive-automodelle-im-massstab-187-ho-lkw-eduard-haas-54287.php
DESCRIPTION:
UID:myauktion-7663-2444515
BEGIN:VALARM
ACTION:DISPLAY
DESCRIPTION:
TRIGGER:-PT10M
END:VALARM
END:VEVENT
END:VCALENDAR