BEGIN:VCALENDAR
VERSION:2.0
PRODID:-//Goldgrube//myauktion.com//AT
CALSCALE:GREGORIAN
BEGIN:VEVENT
DTSTART:20260507T122100
DTEND:20260507T122130
LOCATION:Gewerbepark 13, 8562 Mooskirchen
DTSTAMP:20260423T205523
SUMMARY:MyAuktion: Ablauf Artikel Nr. 444143 Logilink USB C 4 Port Hub 
URL;VALUE=URI:https://www.myauktion.com/versteigerung7663-position2444516-logilink-usb-c-4-port-hub.php
DESCRIPTION:
UID:myauktion-7663-2444516
BEGIN:VALARM
ACTION:DISPLAY
DESCRIPTION:
TRIGGER:-PT10M
END:VALARM
END:VEVENT
END:VCALENDAR