BEGIN:VCALENDAR
VERSION:2.0
PRODID:-//Goldgrube//myauktion.com//AT
CALSCALE:GREGORIAN
BEGIN:VEVENT
DTSTART:20260507T113600
DTEND:20260507T113630
LOCATION:Gewerbepark 13, 8562 Mooskirchen
DTSTAMP:20260423T205514
SUMMARY:MyAuktion: Ablauf Artikel Nr. 443716 Honeywell CT45XP Handscanner
URL;VALUE=URI:https://www.myauktion.com/versteigerung7663-position2444520-honeywell-ct45xp-handscanner.php
DESCRIPTION:Funktion nicht geprüft, gebraucht
UID:myauktion-7663-2444520
BEGIN:VALARM
ACTION:DISPLAY
DESCRIPTION:Funktion nicht geprüft, gebraucht
TRIGGER:-PT10M
END:VALARM
END:VEVENT
END:VCALENDAR