BEGIN:VCALENDAR
VERSION:2.0
PRODID:-//Goldgrube//myauktion.com//AT
CALSCALE:GREGORIAN
BEGIN:VEVENT
DTSTART:20260507T122300
DTEND:20260507T122330
LOCATION:Gewerbepark 13, 8562 Mooskirchen
DTSTAMP:20260423T205515
SUMMARY:MyAuktion: Ablauf Artikel Nr. 444145 Bmw Felge mit Reifen 
URL;VALUE=URI:https://www.myauktion.com/versteigerung7663-position2444523-bmw-felge-mit-reifen.php
DESCRIPTION:Reifen 225/45 R18 , gebraucht 
UID:myauktion-7663-2444523
BEGIN:VALARM
ACTION:DISPLAY
DESCRIPTION:Reifen 225/45 R18 , gebraucht 
TRIGGER:-PT10M
END:VALARM
END:VEVENT
END:VCALENDAR