BEGIN:VCALENDAR
VERSION:2.0
PRODID:-//Goldgrube//myauktion.com//AT
CALSCALE:GREGORIAN
BEGIN:VEVENT
DTSTART:20260507T103700
DTEND:20260507T103730
LOCATION:Gewerbepark 13, 8562 Mooskirchen
DTSTAMP:20260424T045034
SUMMARY:MyAuktion: Ablauf Artikel Nr. 443525 Rietzeautomodelle Solaris Urbino 12 LIEmobil (FL) Art.Nr: 77205
URL;VALUE=URI:https://www.myauktion.com/versteigerung7663-position2444524-rietzeautomodelle-solaris-urbino-12-liemobil-fl-artnr-77205.php
DESCRIPTION:
UID:myauktion-7663-2444524
BEGIN:VALARM
ACTION:DISPLAY
DESCRIPTION:
TRIGGER:-PT10M
END:VALARM
END:VEVENT
END:VCALENDAR