BEGIN:VCALENDAR
VERSION:2.0
PRODID:-//Goldgrube//myauktion.com//AT
CALSCALE:GREGORIAN
BEGIN:VEVENT
DTSTART:20260507T092100
DTEND:20260507T092130
LOCATION:Gewerbepark 13, 8562 Mooskirchen
DTSTAMP:20260423T151130
SUMMARY:MyAuktion: Ablauf Artikel Nr. 443180 Leifheit Air Board Compact Plus M 120x38cm 
URL;VALUE=URI:https://www.myauktion.com/versteigerung7663-position2444526-leifheit-air-board-compact-plus-m-120x38cm.php
DESCRIPTION:
UID:myauktion-7663-2444526
BEGIN:VALARM
ACTION:DISPLAY
DESCRIPTION:
TRIGGER:-PT10M
END:VALARM
END:VEVENT
END:VCALENDAR