BEGIN:VCALENDAR
VERSION:2.0
PRODID:-//Goldgrube//myauktion.com//AT
CALSCALE:GREGORIAN
BEGIN:VEVENT
DTSTART:20260507T092200
DTEND:20260507T092230
LOCATION:Gewerbepark 13, 8562 Mooskirchen
DTSTAMP:20260423T151136
SUMMARY:MyAuktion: Ablauf Artikel Nr. 443181 Hello Kitty Bettwäsche 135x200 80x80cm 
URL;VALUE=URI:https://www.myauktion.com/versteigerung7663-position2444529-hello-kitty-bettwaesche-135x200-80x80cm.php
DESCRIPTION:
UID:myauktion-7663-2444529
BEGIN:VALARM
ACTION:DISPLAY
DESCRIPTION:
TRIGGER:-PT10M
END:VALARM
END:VEVENT
END:VCALENDAR