BEGIN:VCALENDAR
VERSION:2.0
PRODID:-//Goldgrube//myauktion.com//AT
CALSCALE:GREGORIAN
BEGIN:VEVENT
DTSTART:20260507T092400
DTEND:20260507T092430
LOCATION:Gewerbepark 13, 8562 Mooskirchen
DTSTAMP:20260423T151140
SUMMARY:MyAuktion: Ablauf Artikel Nr. 443182 Kaiser Nienhaus Junior Electronic Adapter SW60 + Motorlager 2,50m steckbar 640499 
URL;VALUE=URI:https://www.myauktion.com/versteigerung7663-position2444530-kaiser-nienhaus-junior-electronic-adapter-sw60-motorlager-250m-steckbar-640499.php
DESCRIPTION:
UID:myauktion-7663-2444530
BEGIN:VALARM
ACTION:DISPLAY
DESCRIPTION:
TRIGGER:-PT10M
END:VALARM
END:VEVENT
END:VCALENDAR