BEGIN:VCALENDAR
VERSION:2.0
PRODID:-//Goldgrube//myauktion.com//AT
CALSCALE:GREGORIAN
BEGIN:VEVENT
DTSTART:20260507T113800
DTEND:20260507T113830
LOCATION:Gewerbepark 13, 8562 Mooskirchen
DTSTAMP:20260424T045035
SUMMARY:MyAuktion: Ablauf Artikel Nr. 443718 Schienen & Haken für Gardinen ca 50cm lang, 7-Teilig
URL;VALUE=URI:https://www.myauktion.com/versteigerung7663-position2444532-schienen-38-haken-fuer-gardinen-ca-50cm-lang-7-teilig.php
DESCRIPTION:
UID:myauktion-7663-2444532
BEGIN:VALARM
ACTION:DISPLAY
DESCRIPTION:
TRIGGER:-PT10M
END:VALARM
END:VEVENT
END:VCALENDAR