BEGIN:VCALENDAR
VERSION:2.0
PRODID:-//Goldgrube//myauktion.com//AT
CALSCALE:GREGORIAN
BEGIN:VEVENT
DTSTART:20260507T122400
DTEND:20260507T122430
LOCATION:Gewerbepark 13, 8562 Mooskirchen
DTSTAMP:20260423T205521
SUMMARY:MyAuktion: Ablauf Artikel Nr. 444146 Horlimer Spiegel
URL;VALUE=URI:https://www.myauktion.com/versteigerung7663-position2444533-horlimer-spiegel.php
DESCRIPTION:Ca. 55x150cm 
UID:myauktion-7663-2444533
BEGIN:VALARM
ACTION:DISPLAY
DESCRIPTION:Ca. 55x150cm 
TRIGGER:-PT10M
END:VALARM
END:VEVENT
END:VCALENDAR