BEGIN:VCALENDAR
VERSION:2.0
PRODID:-//Goldgrube//myauktion.com//AT
CALSCALE:GREGORIAN
BEGIN:VEVENT
DTSTART:20260507T122500
DTEND:20260507T122530
LOCATION:Gewerbepark 13, 8562 Mooskirchen
DTSTAMP:20260423T205517
SUMMARY:MyAuktion: Ablauf Artikel Nr. 444147 Anker Solix Power Dock 
URL;VALUE=URI:https://www.myauktion.com/versteigerung7663-position2444534-anker-solix-power-dock.php
DESCRIPTION:
UID:myauktion-7663-2444534
BEGIN:VALARM
ACTION:DISPLAY
DESCRIPTION:
TRIGGER:-PT10M
END:VALARM
END:VEVENT
END:VCALENDAR