BEGIN:VCALENDAR
VERSION:2.0
PRODID:-//Goldgrube//myauktion.com//AT
CALSCALE:GREGORIAN
BEGIN:VEVENT
DTSTART:20260507T104100
DTEND:20260507T104130
LOCATION:Gewerbepark 13, 8562 Mooskirchen
DTSTAMP:20260423T205520
SUMMARY:MyAuktion: Ablauf Artikel Nr. 443529 Hilti DD-BI-ET 300 Core bit extension Nummer: 00220929
URL;VALUE=URI:https://www.myauktion.com/versteigerung7663-position2444535-hilti-dd-bi-et-300-core-bit-extension-nummer-00220929.php
DESCRIPTION:
UID:myauktion-7663-2444535
BEGIN:VALARM
ACTION:DISPLAY
DESCRIPTION:
TRIGGER:-PT10M
END:VALARM
END:VEVENT
END:VCALENDAR