BEGIN:VCALENDAR
VERSION:2.0
PRODID:-//Goldgrube//myauktion.com//AT
CALSCALE:GREGORIAN
BEGIN:VEVENT
DTSTART:20260507T122600
DTEND:20260507T122630
LOCATION:Gewerbepark 13, 8562 Mooskirchen
DTSTAMP:20260423T205517
SUMMARY:MyAuktion: Ablauf Artikel Nr. 444148 Huawei Sun2000 10 KTL M1 
URL;VALUE=URI:https://www.myauktion.com/versteigerung7663-position2444537-huawei-sun2000-10-ktl-m1.php
DESCRIPTION:
UID:myauktion-7663-2444537
BEGIN:VALARM
ACTION:DISPLAY
DESCRIPTION:
TRIGGER:-PT10M
END:VALARM
END:VEVENT
END:VCALENDAR