BEGIN:VCALENDAR
VERSION:2.0
PRODID:-//Goldgrube//myauktion.com//AT
CALSCALE:GREGORIAN
BEGIN:VEVENT
DTSTART:20260507T114000
DTEND:20260507T114030
LOCATION:Gewerbepark 13, 8562 Mooskirchen
DTSTAMP:20260423T205518
SUMMARY:MyAuktion: Ablauf Artikel Nr. 443719 Clese Gloves Nitra Style Blue Größe XL, Art.No. 100505
URL;VALUE=URI:https://www.myauktion.com/versteigerung7663-position2444540-clese-gloves-nitra-style-blue-groesse-xl-artno-100505.php
DESCRIPTION:
UID:myauktion-7663-2444540
BEGIN:VALARM
ACTION:DISPLAY
DESCRIPTION:
TRIGGER:-PT10M
END:VALARM
END:VEVENT
END:VCALENDAR